BEGIN:VCALENDAR
VERSION:2.0
PRODID:SchoolNow
CALSCALE:GREGORIAN
BEGIN:VEVENT
UID:704dd068-3d44-11ef-9650-0affea4aed0f
DTSTAMP:20240708T160922Z
SUMMARY:Popsicles on the Playground/Packet Pick-Up-Marquette Campus
LOCATION:Marquette Campus Playground
URL;VALUE=URI:https://www.xaviercatholicschools.org/xe/marquette-street/cal
 endar/6231904/popsicles-on-the-playground-packet-pick-up-marquette-campus
DTSTART:20240821T230000Z
DTEND:20240822T003000Z
END:VEVENT
END:VCALENDAR
