BEGIN:VCALENDAR
VERSION:2.0
PRODID:SchoolNow
CALSCALE:GREGORIAN
BEGIN:VEVENT
UID:5815de7a-3310-11ef-be7d-0affc2b9d777
DTSTAMP:20240625T163116Z
SUMMARY:Casual Day-Marquette Campus
LOCATION:Marquette Campus
URL;VALUE=URI:https://www.xaviercatholicschools.org/xe/marquette-street/cal
 endar/6166336/casual-day-marquette-campus
DTSTART:20241031T131500Z
DTEND:20241031T201500Z
END:VEVENT
END:VCALENDAR
