BEGIN:VCALENDAR
VERSION:2.0
PRODID:SchoolNow
CALSCALE:GREGORIAN
BEGIN:VEVENT
UID:b03fa700-29ad-11ef-9d9b-0a58a9feac02
DTSTAMP:20240613T175223Z
SUMMARY:Xavier Wear Casual Day-Marquette Campus
LOCATION:Marquette Campus
URL;VALUE=URI:https://www.xaviercatholicschools.org/xe/marquette-street/cal
 endar/6117347/xavier-wear-casual-day-marquette-campus
DTSTART:20240926T131500Z
DTEND:20240926T201500Z
END:VEVENT
END:VCALENDAR
