BEGIN:VCALENDAR
VERSION:2.0
PRODID:SchoolNow
CALSCALE:GREGORIAN
BEGIN:VEVENT
UID:e5740886-29ac-11ef-beea-0a58a9feac02
DTSTAMP:20240613T174643Z
SUMMARY:Playdate on the Playground
LOCATION:Marquette Campus Playground
URL;VALUE=URI:https://www.xaviercatholicschools.org/xe/marquette-street/cal
 endar/6117346/playdate-on-the-playground
DTSTART:20240920T201500Z
DTEND:20240920T211500Z
END:VEVENT
END:VCALENDAR
