BEGIN:VCALENDAR
VERSION:2.0
PRODID:SchoolNow
CALSCALE:GREGORIAN
BEGIN:VEVENT
UID:9cc789fc-2824-11ef-a75d-0affee69e5df
DTSTAMP:20240625T174534Z
SUMMARY:HSA Meeting-Marquette Campus
LOCATION:St. Pius X Church Narthex
URL;VALUE=URI:https://www.xaviercatholicschools.org/xe/marquette-street/cal
 endar/6109165/hsa-meeting-marquette-campus
DTSTART:20240913T133500Z
DTEND:20240913T143000Z
END:VEVENT
END:VCALENDAR
