BEGIN:VCALENDAR
VERSION:2.0
PRODID:SchoolNow
CALSCALE:GREGORIAN
BEGIN:VEVENT
UID:5392eb4a-281b-11ef-a25d-0affef14baff
DTSTAMP:20240611T175210Z
SUMMARY:Parent Night-Marquette Campus
LOCATION:St. Pius X Church and Marquette Campus Classrooms
URL;VALUE=URI:https://www.xaviercatholicschools.org/xe/marquette-street/cal
 endar/6109085/parent-night-marquette-campus
DTSTART:20240903T233000Z
DTEND:20240904T010000Z
END:VEVENT
END:VCALENDAR
